BEGIN:VCALENDAR
VERSION:2.0
PRODID:-//wp-events-plugin.com//7.2.3.1//EN
TZID:Europe/Berlin
X-WR-TIMEZONE:Europe/Berlin
BEGIN:VEVENT
UID:27@buchkontor.com
DTSTART;TZID=Europe/Berlin;VALUE=DATE:20250614
DTEND;TZID=Europe/Berlin;VALUE=DATE:20250615
DTSTAMP:20250517T170325Z
URL:https://buchkontor.com/events/scheunenfest/
SUMMARY:Scheunenfest in Schönbrunn
DESCRIPTION:Zusammen mit der FFW Schönbrunn veranstalten wir am 14. Juni e
 rstmals ein kleines Scheunenfest in Schönnbrunn. DJ Nötzstecker wird ab 
 16 bis ca. 19:30 Uhr für Stimmung in der Kinderdisco sorgen und ab 20 Uhr
  packen der Wurzbacher Liedermachen Heiko Rössel und sein Bandkollege Ivo
  von Hinsberg aus Lichtentanne (beide spielen in der Band "Herzkraftstern"
 ) ihre Instrumente aus.  Neben gecoverten Klassikern werden sie auch eige
 ne Titel präsentieren. Die Feuerwehr kümmert sich indessen um den Rost. 
 Der Eintritt ist frei.\n\n
ATTACH;FMTTYPE=image/jpeg:https://buchkontor.com/wp-content/uploads/2025/0
 3/Screenshot-2025-05-17-104327.png
LOCATION:Scheune Schönbrunn\, Schönbrunn 18\, 07929 Saalburg-Ebersdorf\, 
 Deutschland
X-APPLE-STRUCTURED-LOCATION;VALUE=URI;X-ADDRESS=Schönbrunn 18\, 07929 Saal
 burg-Ebersdorf\, Deutschland;X-APPLE-RADIUS=100;X-TITLE=Scheune Schönbrun
 n:geo:0,0
END:VEVENT
BEGIN:VTIMEZONE
TZID:Europe/Berlin
X-LIC-LOCATION:Europe/Berlin
BEGIN:DAYLIGHT
DTSTART:20250330T030000
TZOFFSETFROM:+0100
TZOFFSETTO:+0200
TZNAME:CEST
END:DAYLIGHT
END:VTIMEZONE
END:VCALENDAR