BEGIN:VCALENDAR
VERSION:2.0
PRODID:-//wp-events-plugin.com//7.2.3.1//EN
TZID:Europe/Berlin
X-WR-TIMEZONE:Europe/Berlin
BEGIN:VEVENT
UID:22@buchkontor.com
DTSTART;TZID=Europe/Berlin:20250321T193000
DTEND;TZID=Europe/Berlin:20250321T223000
DTSTAMP:20250321T083249Z
URL:https://buchkontor.com/events/filmvortrag-ueber-den-serienmoerder-karl
 -denke/
SUMMARY:Filmvortrag über den Serienmörder Karl Denke
DESCRIPTION:&nbsp\;\n\n\n\nAchtung: Die Dokumentation wird im Thekenbereich
  der Scheune gezeigt\, dementsprechend begrenzt ist die Anzahl der verfüg
 baren Plätze. Bitte beachten Sie zudem\, dass eine Stornierung oder Rück
 gabe der Tickets nicht möglich und die Veranstaltung ab 18 Jahren ist.
ATTACH;FMTTYPE=image/jpeg:https://buchkontor.com/wp-content/uploads/2025/0
 1/Screenshot-2025-01-08-175606.png
LOCATION:Scheune Schönbrunn\, Schönbrunn 18\, 07929 Saalburg-Ebersdorf\, 
 Deutschland
X-APPLE-STRUCTURED-LOCATION;VALUE=URI;X-ADDRESS=Schönbrunn 18\, 07929 Saal
 burg-Ebersdorf\, Deutschland;X-APPLE-RADIUS=100;X-TITLE=Scheune Schönbrun
 n:geo:0,0
END:VEVENT
BEGIN:VTIMEZONE
TZID:Europe/Berlin
X-LIC-LOCATION:Europe/Berlin
BEGIN:STANDARD
DTSTART:20241027T020000
TZOFFSETFROM:+0200
TZOFFSETTO:+0100
TZNAME:CET
END:STANDARD
END:VTIMEZONE
END:VCALENDAR