BEGIN:VCALENDAR
VERSION:2.0
PRODID:-//wp-events-plugin.com//7.2.3.1//EN
TZID:Europe/Berlin
X-WR-TIMEZONE:Europe/Berlin
BEGIN:VEVENT
UID:13@buchkontor.com
DTSTART;TZID=Europe/Berlin:20240705T170000
DTEND;TZID=Europe/Berlin:20240705T234500
DTSTAMP:20240701T074843Z
URL:https://buchkontor.com/events/em-live-viertelfinale-deutschland-gegen-
 spanien/
SUMMARY:EM live - Viertelfinale: Deutschland gegen Spanien
DESCRIPTION:Der SVE lädt ein: EM live in der Scheune Schönbrunn. Die Sche
 une öffnet um 17 Uhr\, Anstoß der Partie Deutschland vs. Spanien ist 18 
 Uhr. Im Anschluß an das Spiel zeigen wir das zweite Viertelfinale Portuga
 l oder Slowenien gegen Frankreich oder Belgien.\n\n
ATTACH;FMTTYPE=image/jpeg:https://buchkontor.com/wp-content/uploads/2024/0
 6/ball-488718_1920.jpg
LOCATION:Scheune Schönbrunn\, Schönbrunn 18\, 07929 Saalburg-Ebersdorf\, 
 Deutschland
X-APPLE-STRUCTURED-LOCATION;VALUE=URI;X-ADDRESS=Schönbrunn 18\, 07929 Saal
 burg-Ebersdorf\, Deutschland;X-APPLE-RADIUS=100;X-TITLE=Scheune Schönbrun
 n:geo:0,0
END:VEVENT
BEGIN:VTIMEZONE
TZID:Europe/Berlin
X-LIC-LOCATION:Europe/Berlin
BEGIN:DAYLIGHT
DTSTART:20240331T030000
TZOFFSETFROM:+0100
TZOFFSETTO:+0200
TZNAME:CEST
END:DAYLIGHT
END:VTIMEZONE
END:VCALENDAR