BEGIN:VCALENDAR
VERSION:2.0
PRODID:-//wp-events-plugin.com//7.2.3.1//EN
TZID:Europe/Berlin
X-WR-TIMEZONE:Europe/Berlin
BEGIN:VEVENT
UID:7@buchkontor.com
DTSTART;TZID=Europe/Berlin:20240608T000000
DTEND;TZID=Europe/Berlin:20240608T000000
DTSTAMP:20240601T083120Z
URL:https://buchkontor.com/events/buchcafe-geoeffnet-2/
SUMMARY:Buchcafé geöffnet
DESCRIPTION:
ATTACH;FMTTYPE=image/jpeg:https://buchkontor.com/wp-content/uploads/2024/0
 6/buchcafe86-scaled.jpg
LOCATION:Scheune Schönbrunn\, Schönbrunn 18\, 07929 Saalburg-Ebersdorf\, 
 Deutschland
X-APPLE-STRUCTURED-LOCATION;VALUE=URI;X-ADDRESS=Schönbrunn 18\, 07929 Saal
 burg-Ebersdorf\, Deutschland;X-APPLE-RADIUS=100;X-TITLE=Scheune Schönbrun
 n:geo:0,0
END:VEVENT
BEGIN:VTIMEZONE
TZID:Europe/Berlin
X-LIC-LOCATION:Europe/Berlin
BEGIN:DAYLIGHT
DTSTART:20240331T030000
TZOFFSETFROM:+0100
TZOFFSETTO:+0200
TZNAME:CEST
END:DAYLIGHT
END:VTIMEZONE
END:VCALENDAR